BEGIN:VCALENDAR
VERSION:2.0
PRODID:-//Eventin//Event Calendar//EN
CALSCALE:GREGORIAN
METHOD:PUBLISH
BEGIN:VEVENT
UID:39e2190ca0caa1a3b4f31e74654e4004@nwestchurchofchrist.org
SUMMARY:R.O.S.E. Bible Study – A Woman Formed by Truth
DESCRIPTION:Northwest Church of Christ invites women to grow deeper in fait
 h during the R.O.S.E. Bible Study: A Woman Formed by Truth\, a special seri
 es celebrating Women’s History Month. R.O.S.E. stands for Rooted\, Obedie
 nt\, Steadfast\, and Equipped\, and this study is designed to encourage wom
 en to develop a stronger spiritual foundation through the Word of God. Join
  us in person every Sunday at 9:30 AM CST or virtually on Wednesdays at 6:3
 0 PM CST via Zoom as Pastor Beard leads powerful and engaging lessons that 
 equip women to walk confidently in their faith and purpose. This study prov
 ides a welcoming environment for learning\, fellowship\, and spiritual grow
 th.
LOCATION:Northwest Church of Christ\, 1483 Brookhaven Drive Southaven\, MS 
 38671
DTSTAMP:20260421T161010Z
DTSTART:20260308T060000Z
DTEND:20261230T132000Z
END:VEVENT
END:VCALENDAR
