BEGIN:VCALENDAR
VERSION:2.0
PRODID:-//Eventin//Event Calendar//EN
CALSCALE:GREGORIAN
METHOD:PUBLISH
BEGIN:VEVENT
UID:d271a1405fc02116e8ec35003ca6d0d6@nwestchurchofchrist.org
SUMMARY:Kings Ministry
DESCRIPTION:Kings Ministry at Northwest Church of Christ is a powerful oppo
 rtunity for men to grow stronger in their faith while building authentic br
 otherhood. Through consistent connection and encouragement\, this ministry 
 is designed to help men walk in truth\, develop trust in God\, and experien
 ce real transformation in their daily lives. Join us for weekday morning de
 votions and our Kings’ Huddle gatherings as we sharpen one another and pu
 rsue Christ together. This is more than a meeting—it is a movement of men
  committed to living with purpose and standing firm in their faith.\n 
LOCATION:Via: Zoom. Passcode: 210 317 8002
DTSTAMP:20260421T094803Z
DTSTART:20260414T110000Z
DTEND:20261222T010000Z
END:VEVENT
END:VCALENDAR
