BEGIN:VCALENDAR
VERSION:2.0
PRODID:-//Eventin//Event Calendar//EN
CALSCALE:GREGORIAN
METHOD:PUBLISH
BEGIN:VEVENT
UID:7c4d6180c920885a422a4c09170f3986@nwestchurchofchrist.org
SUMMARY:“Don’t Be Fooled” Sermon Series
DESCRIPTION:In a world filled with confusion and competing voices\, the “
 Don’t Be Fooled” sermon series at Northwest Church of Christ calls beli
 evers back to truth. Each Sunday\, this powerful teaching series will equip
  you to defend your faith with confidence while staying grounded in the unc
 hanging Word of God. With clear\, biblical teaching and no gimmicks—just 
 the Gospel—you will be challenged\, strengthened\, and encouraged to stan
 d firm in your beliefs. Join us weekly as we grow together and learn how to
  navigate today’s culture with wisdom and conviction.
LOCATION:Northwest Church of Christ\, 1483 Brookhaven Drive Southaven\, MS 
 38671
DTSTAMP:20260419T155947Z
DTSTART:20261004T144500Z
DTEND:20261004T170000Z
END:VEVENT
END:VCALENDAR
