BEGIN:VCALENDAR
VERSION:2.0
PRODID:-//Eventin//Event Calendar//EN
CALSCALE:GREGORIAN
METHOD:PUBLISH
BEGIN:VEVENT
UID:866bb2c56c60beec15258d37afaecb96@nwestchurchofchrist.org
SUMMARY:Mothers in the Garden Brunch
DESCRIPTION:Celebrate the beauty\, strength\, and faith of mothers at our 
 “Mothers in the Garden” Brunch\, a special gathering designed to honor 
 and uplift the women who nurture and inspire us. This meaningful event offe
 rs a time of connection\, reflection\, and renewal as we come together to c
 elebrate motherhood and the journey of surrender and grace. Enjoy a warm an
 d welcoming atmosphere\, delicious brunch\, and encouraging moments that wi
 ll leave you refreshed and inspired. Whether you are a mother or celebratin
 g one\, this is a moment you will not want to miss.
LOCATION:Northwest Church of Christ\, 1483 Brookhaven Drive Southaven\, MS 
 38671
DTSTAMP:20260421T090656Z
DTSTART:20260414T140000Z
DTEND:20260509T160000Z
END:VEVENT
END:VCALENDAR
